BEGIN:VCALENDAR
VERSION:2.0
PRODID:-//Tukios.com/
BEGIN:VEVENT
UID:72ef2318-d5c2-469c-bc45-97dc2aa9ee3c@www.oconnormortuary.com
DTSTAMP:20260424T194930Z
DTSTART:20260502T190000Z
DTEND:20260502T200000Z
SUMMARY:Graveside Service
DESCRIPTION:
URL:https://www.oconnormortuary.com/obituaries/zahra-nakhjavani
LOCATION: 7845 E Santiago Canyon Rd  Orange CA 92869
GEO:33.8040409;-117.7689903
END:VEVENT
END:VCALENDAR