BEGIN:VCALENDAR
VERSION:2.0
PRODID:-//Tukios.com/
BEGIN:VEVENT
UID:6cd0cf3a-6b9f-422f-9e85-0d9f98e5c85b@www.oconnormortuary.com
DTSTAMP:20260424T195046Z
DTSTART:20260425T220000Z
DTEND:20260425T233000Z
SUMMARY:Reception
DESCRIPTION:
URL:https://www.oconnormortuary.com/obituaries/pi-ian-chen
LOCATION: 25301 Alicia Pkwy  Laguna Hills CA 92653
GEO:33.5943604;-117.6978148
END:VEVENT
END:VCALENDAR