BEGIN:VCALENDAR
VERSION:2.0
PRODID:-//Tukios.com/
BEGIN:VEVENT
UID:50fd4ef5-be38-4dbc-8687-f4905446f2b3@www.oconnormortuary.com
DTSTAMP:20260424T194627Z
DTSTART:20260425T210000Z
DTEND:20260425T220000Z
SUMMARY:Memorial Service
DESCRIPTION:
URL:https://www.oconnormortuary.com/obituaries/pi-ian-chen
LOCATION: 25301 Alicia Pkwy  Laguna Hills CA 92653
GEO:33.5943604;-117.6978148
END:VEVENT
END:VCALENDAR