BEGIN:VCALENDAR
VERSION:2.0
PRODID:-//Tukios.com/
BEGIN:VEVENT
UID:e7b6a828-763e-437d-83c8-95fa0080bd96@www.oconnormortuary.com
DTSTAMP:20260423T004121Z
DTSTART:20260512T190000Z
DTEND:20260512T200000Z
SUMMARY:Funeral Mass
DESCRIPTION:
URL:https://www.oconnormortuary.com/obituaries/james-greene
LOCATION: 1301 Sycamore Avenue  Tustin CA 92780
GEO:33.7269726;-117.8256824
END:VEVENT
END:VCALENDAR